View In:
ArcGIS JavaScript
ArcGIS Online Map Viewer
ArcGIS Earth
ArcMap
ArcGIS Pro
View Footprint In:
ArcGIS Online Map Viewer
Service Description: This data set contains historical aerial photography covering Hancock, Harrison, and Jackson Counties, Mississippi. This quad mosaic aerial photography was created from black and white photography collected during the 1930's and 1940's.
Map Name: 1942
Legend
All Layers and Tables
Dynamic Legend
Dynamic All Layers
Layers:
Description: This data set contains historical aerial photography covering Hancock, Harrison, and Jackson Counties, Mississippi. This quad mosaic aerial photography was created from black and white photography collected during the 1930's and 1940's.
Service Item Id: 0697cba398014c2d824a977bf6d6a86b
Copyright Text: Coastal Environments, Inc.; P2 Energy Solutions, Inc.; and Mississippi Department of Marine Resources
Spatial Reference:
102100
(3857)
Single Fused Map Cache: true
Tile Info:
- Height: 256
- Width: 256
- DPI: 96
-
Levels of Detail: 24
-
Level ID: 0
[ Start Tile, End Tile ]
- Resolution: 156543.03392800014
- Scale: 5.91657527591555E8
-
Level ID: 1
[ Start Tile, End Tile ]
- Resolution: 78271.51696399994
- Scale: 2.95828763795777E8
-
Level ID: 2
[ Start Tile, End Tile ]
- Resolution: 39135.75848200009
- Scale: 1.47914381897889E8
-
Level ID: 3
[ Start Tile, End Tile ]
- Resolution: 19567.87924099992
- Scale: 7.3957190948944E7
-
Level ID: 4
[ Start Tile, End Tile ]
- Resolution: 9783.93962049996
- Scale: 3.6978595474472E7
-
Level ID: 5
[ Start Tile, End Tile ]
- Resolution: 4891.96981024998
- Scale: 1.8489297737236E7
- Format: MIXED
- Compression Quality: 75.0
- Origin: X: -2.0037508342787E7
Y: 2.0037508342787E7
- Spatial Reference: 102100
(3857)
Initial Extent:
XMin: -9999371.327684572
YMin: 3542632.1836683215
XMax: -9829464.127853801
YMax: 3614229.056118257
Spatial Reference: 102100
(3857)
Full Extent:
XMin: -9991648.27314681
YMin: 3518981.5221852367
XMax: -9837187.182391563
YMax: 3601299.130668938
Spatial Reference: 102100
(3857)
Units: esriMeters
Supported Image Format Types: PNG32,PNG24,PNG,JPG,DIB,TIFF,EMF,PS,PDF,GIF,SVG,SVGZ,BMP
Document Info:
Title:
Author:
Comments:
Subject:
Category:
Keywords: Historic Imagery,Historical Aerial Photography,Georeferenced Image,USGS Quad Centered,1942
AntialiasingMode: None
TextAntialiasingMode: Force
Supports Dynamic Layers: true
MaxRecordCount: 1000
MaxImageHeight: 4096
MaxImageWidth: 4096
Supported Query Formats: JSON, geoJSON
Supports Query Data Elements:
Min Scale: 1155581.108577
Max Scale: 4513.988705
Supports Datum Transformation: true
Child Resources:
Info
Dynamic Layer
Supported Operations:
Export Map
Identify
QueryLegends
QueryDomains
Find
Return Updates
Generate KML